BEGIN:VCALENDAR
VERSION:2.0
PRODID:-//West Bohemia Racing - ECPv6.1.3//NONSGML v1.0//EN
CALSCALE:GREGORIAN
METHOD:PUBLISH
X-WR-CALNAME:West Bohemia Racing
X-ORIGINAL-URL:https://westbohemiaracing.cz
X-WR-CALDESC:Akce na West Bohemia Racing
REFRESH-INTERVAL;VALUE=DURATION:PT1H
X-Robots-Tag:noindex
X-PUBLISHED-TTL:PT1H
BEGIN:VTIMEZONE
TZID:UTC
BEGIN:STANDARD
TZOFFSETFROM:+0000
TZOFFSETTO:+0000
TZNAME:UTC
DTSTART:20230101T000000
END:STANDARD
END:VTIMEZONE
BEGIN:VEVENT
DTSTART;TZID=UTC:20230902T080000
DTEND;TZID=UTC:20230910T200000
DTSTAMP:20260419T150434
CREATED:20230309T062338Z
LAST-MODIFIED:20230309T062339Z
UID:181-1693641600-1694376000@westbohemiaracing.cz
SUMMARY:European motorsport Festival
DESCRIPTION:European Motorsport Festival je první motoristický festival v Evropě\, který se bude konat v Rumunsku v září 2023! A samozřejmě\, protože 4 je naše šťastné číslo\, přinášíme čtyři kategorie na jedné velké velké mezinárodní akci: Rally Raid – Adventure Raid – Hard Enduro – Rainforest Challenge. Každá kategorie bude mít svou trasu bez vzájemného křížení\, svá pravidla\, svou výzvu a tvrdost\, své šampiony\, ale večer se všichni sejdeme v jedinečném\, velkém a velmi dobře zorganizovaném bivaku\, místě\, kde se navazují přátelství a trvalá pouta.
URL:https://westbohemiaracing.cz/event/european-motorsport-festival/
LOCATION:Constanta\, Constanta\, 900147\, Rumunsko
ORGANIZER;CN="4V%20Rally%20Raid%C2%AE":MAILTO:official@4vrallyraid.com
END:VEVENT
BEGIN:VEVENT
DTSTART;TZID=UTC:20230616T080000
DTEND;TZID=UTC:20230617T200000
DTSTAMP:20260419T150434
CREATED:20230309T042132Z
LAST-MODIFIED:20230309T043825Z
UID:146-1686902400-1687032000@westbohemiaracing.cz
SUMMARY:4. PKN Orlen Super Race
DESCRIPTION:Super Race\n\n\nČtvrté pokračování mezinárodního offroadového závodu
URL:https://westbohemiaracing.cz/event/4-pkn-orlen-super-race/
LOCATION:Slovensko\, Slovakia
ATTACH;FMTTYPE=image/jpeg:https://westbohemiaracing.cz/wp-content/uploads/2023/03/330007011_561627082593817_7364792628481844714_n.jpeg
END:VEVENT
BEGIN:VEVENT
DTSTART;TZID=UTC:20230519T080000
DTEND;TZID=UTC:20230520T200000
DTSTAMP:20260419T150434
CREATED:20230309T035742Z
LAST-MODIFIED:20230309T035742Z
UID:140-1684483200-1684612800@westbohemiaracing.cz
SUMMARY:3. PKN Orlen Super Race
DESCRIPTION:PKN Orlen Super Race\n\n\nTřetí pokračování mezinárodního offroadového závodu
URL:https://westbohemiaracing.cz/event/3-pkn-orlen-super-race/
LOCATION:Polsko
ATTACH;FMTTYPE=image/jpeg:https://westbohemiaracing.cz/wp-content/uploads/2023/03/334557205_1453321638406997_849688932176219409_n.jpeg
END:VEVENT
BEGIN:VEVENT
DTSTART;TZID=UTC:20230508T100000
DTEND;TZID=UTC:20230508T180000
DTSTAMP:20260419T150434
CREATED:20230309T064058Z
LAST-MODIFIED:20230309T064129Z
UID:191-1683540000-1683568800@westbohemiaracing.cz
SUMMARY:Race Day Sosnová 2023
DESCRIPTION:Skvělé jízdy na autodromu ať už vaším autem nebo naším závoďákem. Odborný učitel jízdy bude k dispozici\, spolu s rallyovými hosty. \n\n\n\nCena včetně občerstvení je krásných 5 000\,-
URL:https://westbohemiaracing.cz/event/race-day-sosnova-2023/
LOCATION:Autodrom Sosnová\, Česká Lípa 200\, Sosnová\, 47001\, Česká republika
ORGANIZER;CN="Franti%C5%A1ek%20Mach%C3%A1%C4%8Dek":MAILTO:frmachacek46@gmail.com
END:VEVENT
BEGIN:VEVENT
DTSTART;TZID=UTC:20230421T080000
DTEND;TZID=UTC:20230422T200000
DTSTAMP:20260419T150434
CREATED:20230309T032142Z
LAST-MODIFIED:20230314T044549Z
UID:128-1682064000-1682193600@westbohemiaracing.cz
SUMMARY:2. PKN Orlen Super Race
DESCRIPTION:PKN Orlen Super Race\n\n\nDruhý závod offroadové rally
URL:https://westbohemiaracing.cz/event/2-super-race/
LOCATION:Park Vegas\, Chojnów\, Chojnów\, 59225\, Polsko
ATTACH;FMTTYPE=image/jpeg:https://westbohemiaracing.cz/wp-content/uploads/2023/03/333567639_963342397993107_2907339071152948286_n.jpeg
END:VEVENT
BEGIN:VEVENT
DTSTART;TZID=UTC:20230324T050000
DTEND;TZID=UTC:20230324T220000
DTSTAMP:20260419T150434
CREATED:20230309T043805Z
LAST-MODIFIED:20230309T044048Z
UID:152-1679634000-1679695200@westbohemiaracing.cz
SUMMARY:Offroad Maraton Milovice
DESCRIPTION:Offroad Maraton\n\n\nPrvní závod extrémní offroadové série MČR Offroad Maraton ve vojenském prostoru Milovic. Startuje na 2 hodiny motorek\, pokračuje 2 hodinami čtyřkolek a závírá 4 hodinami aut.
URL:https://westbohemiaracing.cz/event/1-mcr-offroad-maraton/
LOCATION:Offroad Maraton Milovice\, Milovice\, 28923\, Česká republika
ATTACH;FMTTYPE=image/jpeg:https://westbohemiaracing.cz/wp-content/uploads/2023/03/316299595_5816346055052899_676135856560970187_n.jpeg
ORGANIZER;CN="24%20Hours%20Agency%2C%20Ond%C5%99ej%20Nachtigall":MAILTO:nachtigall@24hoursagency.cz
END:VEVENT
BEGIN:VEVENT
DTSTART;TZID=UTC:20230303T080000
DTEND;TZID=UTC:20230304T170000
DTSTAMP:20260419T150434
CREATED:20230309T031214Z
LAST-MODIFIED:20230309T084559Z
UID:73-1677830400-1677949200@westbohemiaracing.cz
SUMMARY:1. PKN Orlen Super Race
DESCRIPTION:PKN Orlen Super Race\n\n\nPrvní klání offroadové rally \n\n\n\n120 minut čtyřkolky \n\n\n\n3×30 minut SSV
URL:https://westbohemiaracing.cz/event/pkn-orlen-super-race/
LOCATION:Hodonín\, Pánov\, Pánov\, Hodonín\, Jihomoravský\, 69501\, Česká republika
ATTACH;FMTTYPE=image/jpeg:https://westbohemiaracing.cz/wp-content/uploads/2023/03/334470139_155961263971663_1073456898140056244_n.jpeg
END:VEVENT
END:VCALENDAR